BEGIN:VCALENDAR
VERSION:2.0
PRODID:-//eventon.com NONSGML v1.0//EN
BEGIN:VEVENT
UID:69ea25d745d47
DTSTAMP:20260423T095951
DTSTART:20260806T180100Z
DTEND:20260924T180100Z
TZID:America/New_York
LOCATION:
SUMMARY:Go With The Flow Art Exhibit
DESCRIPTION: Coming August-September 2026 Exact dates and details will be announced as soon as possible. Artists: Andrea\,  Haley\,  Cathy and Lisa\nhttps://ncwu.edu/events/go-with-the-flow-art-exhibit/
URL:https://ncwu.edu/events/go-with-the-flow-art-exhibit/
END:VEVENT
END:VCALENDAR