BEGIN:VCALENDAR
VERSION:2.0
PRODID:-//eventon.com NONSGML v1.0//EN
BEGIN:VEVENT
UID:69ea25ae196e1
DTSTAMP:20260423T095910
DTSTART:20260403T175600Z
DTEND:20260528T175600Z
TZID:America/New_York
LOCATION:Gravely Gallery 
SUMMARY:William Manley and Bo Banes Exhibition
DESCRIPTION: Showing: April 3- May 29\,  2026 Reception: Sunday April 12\,  20263-5 pm CONVERGE &#8220;Where Visions Meet&#8221; What began as a shared interest in photography grew into something deeper. As photography associates\,  William Manley and Bo Baines crossed paths through the craft—exchanging ideas\,  techniques\,  and perspectives. Over time\,  that connection evolved[..]\nhttps://ncwu.edu/events/william-manley-and-bo-banes-exhibition%ef%bf%bc/
URL:https://ncwu.edu/events/william-manley-and-bo-banes-exhibition%ef%bf%bc/
END:VEVENT
END:VCALENDAR